BEGIN:VCALENDAR
VERSION:2.0
PRODID:-//Davar Church Kingdom of God - ECPv6.15.20//NONSGML v1.0//EN
CALSCALE:GREGORIAN
METHOD:PUBLISH
X-WR-CALNAME:Davar Church Kingdom of God
X-ORIGINAL-URL:https://www2.davarkg.com
X-WR-CALDESC:Events for Davar Church Kingdom of God
REFRESH-INTERVAL;VALUE=DURATION:PT1H
X-Robots-Tag:noindex
X-PUBLISHED-TTL:PT1H
BEGIN:VTIMEZONE
TZID:America/Los_Angeles
BEGIN:DAYLIGHT
TZOFFSETFROM:-0800
TZOFFSETTO:-0700
TZNAME:PDT
DTSTART:20240310T100000
END:DAYLIGHT
BEGIN:STANDARD
TZOFFSETFROM:-0700
TZOFFSETTO:-0800
TZNAME:PST
DTSTART:20241103T090000
END:STANDARD
BEGIN:DAYLIGHT
TZOFFSETFROM:-0800
TZOFFSETTO:-0700
TZNAME:PDT
DTSTART:20250309T100000
END:DAYLIGHT
BEGIN:STANDARD
TZOFFSETFROM:-0700
TZOFFSETTO:-0800
TZNAME:PST
DTSTART:20251102T090000
END:STANDARD
BEGIN:DAYLIGHT
TZOFFSETFROM:-0800
TZOFFSETTO:-0700
TZNAME:PDT
DTSTART:20260308T100000
END:DAYLIGHT
BEGIN:STANDARD
TZOFFSETFROM:-0700
TZOFFSETTO:-0800
TZNAME:PST
DTSTART:20261101T090000
END:STANDARD
END:VTIMEZONE
BEGIN:VEVENT
DTSTART;TZID=America/Los_Angeles:20250809T140000
DTEND;TZID=America/Los_Angeles:20250809T160000
DTSTAMP:20260425T045057
CREATED:20250419T010943Z
LAST-MODIFIED:20250723T170824Z
UID:4940-1754748000-1754755200@www2.davarkg.com
SUMMARY:Jun Asai Piano Concert 8/9/2025
DESCRIPTION:Jun Asai Piano Concert 2025\nAugust 9 (Saturday) \, 2:00PM \nColburn School (LA downtown)\nZipper Hall\n200 S Grand Ave\, Los Angeles\, CA 90012 \nPlease reserve your tickets while some seats are still available. \nJun Asai Piano Concert 2025
URL:https://www2.davarkg.com/calendar/jun-asai-piano-concert-2025/
LOCATION:Colburn School\, 200 S Grand Ave\, Los Angeles\, CA\, 90012\, United States
CATEGORIES:Events
ATTACH;FMTTYPE=image/jpeg:https://www2.davarkg.com/wp-content/uploads/2022/10/img_JunAsai.jpg
END:VEVENT
BEGIN:VEVENT
DTSTART;TZID=America/Los_Angeles:20250810T160000
DTEND;TZID=America/Los_Angeles:20250815T130000
DTSTAMP:20260425T045057
CREATED:20250418T215404Z
LAST-MODIFIED:20250418T215438Z
UID:4934-1754841600-1755262800@www2.davarkg.com
SUMMARY:Davar Summer Bible Seminar  8/10 (Sun) – 8/15 (Fri) at Camp Cedar Falls
DESCRIPTION:Davar Church holds bible seminar camps every year in August and December. Many people participate not only from California\, but also from all over the U.S.\, Japan\, and Asia. Away from the hustle and bustle of the city\, five days of concentrated Bible study provides a good opportunity to reflect on oneself and change one’s way of life. \n2025 Summer Bible Seminar\n8/10 (Sun) – 8/15 (Fri) at Camp Cedar Falls\nNow Accepting Applications! \nSpeaker : Rev. Toru Asai\nTheme: “The Lord is My Shepherd” \nThe LORD is my shepherd\,\nI shall not be in want.\nHe makes me lie down in green pastures\,\nhe leads me beside quiet waters\,\nhe restores my soul.\nHe guides me in paths of righteousness for his name’s sake (Ps 23:1-3). \nAs people transition from childhood to adulthood\, they develop mental independence\, distancing themselves from the care and protection of their parents. This is a positive development we refer to as growth. However\, Satan exploits this independence to tempt us into relying on our own strength and wisdom\, living for ourselves instead of trusting in the good God\, just as he did to Eve. Consequently\, we no longer believe in the existence of the true shepherd and wander in darkness like lost sheep. Then\, one day\, you heard the voice of this shepherd and returned to him. \nFor you were like sheep going astray\, but now you have returned to the Shepherd and Overseer of your souls (1 Pet 2:25). \nSince this shepherd isn’t visibly present with you\, even if you are one of his sheep\, it’s possible that you still live in fear\, filled with worries and anxieties\, as if you were still lost. \nEven though I walk through the valley of the shadow of death\,\nI will fear no evil\, for you are with me;\nyour rod and your staff\, they comfort me (Ps 23:4). \nThis psalm contains many wonderful promises for you who have the Lord as your shepherd. This shepherd\, who laid down his life for you\, does not slumber night or day; he watches over you and seeks to guide you. \nI am the good shepherd; I know my sheep and my sheep know me–just as the Father knows me and I know the Father–and I lay down my life for the sheep (John 10:14-15). \nThe reality of this shepherd remains the same\, but that doesn’t automatically apply as a reality for you as long as you are one of his sheep. There are some important requirements for the sheep. So\, what are the keys to living a fruitful life in this shepherd-sheep relationship? \n\nSurely goodness and love will follow me all the days of my life\, and I will dwell in the house of the LORD forever (Ps 23:6). \nFor more information: \n2025 Summer Bible Seminar
URL:https://www2.davarkg.com/calendar/2025-davar-summer-bible-seminar/
LOCATION:camp cedar falls\, 39850 CA-38\, Angelus Oaks\, CA\, 92305\, United States
CATEGORIES:Bible Seminar
ATTACH;FMTTYPE=image/jpeg:https://www2.davarkg.com/wp-content/uploads/2025/03/IMG_SBS_2025_E.jpg
END:VEVENT
END:VCALENDAR