BEGIN:VCALENDAR
VERSION:2.0
PRODID:-//Davar Church Kingdom of God - ECPv6.15.20//NONSGML v1.0//EN
CALSCALE:GREGORIAN
METHOD:PUBLISH
X-ORIGINAL-URL:https://www2.davarkg.com
X-WR-CALDESC:Events for Davar Church Kingdom of God
REFRESH-INTERVAL;VALUE=DURATION:PT1H
X-Robots-Tag:noindex
X-PUBLISHED-TTL:PT1H
BEGIN:VTIMEZONE
TZID:America/Los_Angeles
BEGIN:DAYLIGHT
TZOFFSETFROM:-0800
TZOFFSETTO:-0700
TZNAME:PDT
DTSTART:20240310T100000
END:DAYLIGHT
BEGIN:STANDARD
TZOFFSETFROM:-0700
TZOFFSETTO:-0800
TZNAME:PST
DTSTART:20241103T090000
END:STANDARD
BEGIN:DAYLIGHT
TZOFFSETFROM:-0800
TZOFFSETTO:-0700
TZNAME:PDT
DTSTART:20250309T100000
END:DAYLIGHT
BEGIN:STANDARD
TZOFFSETFROM:-0700
TZOFFSETTO:-0800
TZNAME:PST
DTSTART:20251102T090000
END:STANDARD
BEGIN:DAYLIGHT
TZOFFSETFROM:-0800
TZOFFSETTO:-0700
TZNAME:PDT
DTSTART:20260308T100000
END:DAYLIGHT
BEGIN:STANDARD
TZOFFSETFROM:-0700
TZOFFSETTO:-0800
TZNAME:PST
DTSTART:20261101T090000
END:STANDARD
BEGIN:DAYLIGHT
TZOFFSETFROM:-0800
TZOFFSETTO:-0700
TZNAME:PDT
DTSTART:20270314T100000
END:DAYLIGHT
BEGIN:STANDARD
TZOFFSETFROM:-0700
TZOFFSETTO:-0800
TZNAME:PST
DTSTART:20271107T090000
END:STANDARD
END:VTIMEZONE
BEGIN:VEVENT
DTSTART;TZID=America/Los_Angeles:20250910T193000
DTEND;TZID=America/Los_Angeles:20250910T213000
DTSTAMP:20260425T044914
CREATED:20250906T033946Z
LAST-MODIFIED:20250906T033946Z
UID:5565-1757532600-1757539800@www2.davarkg.com
SUMMARY:Cornelius’ Meeting
DESCRIPTION:This is a training class to develop disciples who can apply God’s Word to their lives and teach other believers through the sermon drills created by Pastor Asai.  \nLocation changes every week\, so please check the weekly bulletin.
URL:https://www2.davarkg.com/calendar/cornelius-meeting/
END:VEVENT
BEGIN:VEVENT
DTSTART;TZID=America/Los_Angeles:20250917T193000
DTEND;TZID=America/Los_Angeles:20250917T213000
DTSTAMP:20260425T044914
CREATED:20250906T040005Z
LAST-MODIFIED:20250906T040023Z
UID:5569-1758137400-1758144600@www2.davarkg.com
SUMMARY:Cornelius’ Meeting
DESCRIPTION:This is a training class to develop disciples who can apply God’s Word to their lives and teach other believers through the sermon drills created by Pastor Asai.  \nLocation changes every week\, so please check the weekly bulletin.
URL:https://www2.davarkg.com/calendar/cornelius-meeting-09172025/
END:VEVENT
BEGIN:VEVENT
DTSTART;TZID=America/Los_Angeles:20250924T193000
DTEND;TZID=America/Los_Angeles:20250924T213000
DTSTAMP:20260425T044914
CREATED:20250906T040125Z
LAST-MODIFIED:20250906T040125Z
UID:5572-1758742200-1758749400@www2.davarkg.com
SUMMARY:Cornelius’ Meeting
DESCRIPTION:This is a training class to develop disciples who can apply God’s Word to their lives and teach other believers through the sermon drills created by Pastor Asai.  \nLocation changes every week\, so please check the weekly bulletin.
URL:https://www2.davarkg.com/calendar/cornelius-meeting-09242025/
END:VEVENT
BEGIN:VEVENT
DTSTART;TZID=America/Los_Angeles:20251123T100000
DTEND;TZID=America/Los_Angeles:20251123T120000
DTSTAMP:20260425T044914
CREATED:20251123T140043Z
LAST-MODIFIED:20251123T140043Z
UID:5760-1763892000-1763899200@www2.davarkg.com
SUMMARY:Thanksgiving Joint Service
DESCRIPTION:Thanksgiving Joint Service\nSunday\, November 23\nFrom 10am~12pm \n(There will be an English interpreter during the joint worship as the sermon will be conducted in Japanese) \nIf you are with your children on the day of the service\, we will have a church school for children during the service.
URL:https://www2.davarkg.com/calendar/thanksgiving-joint-service/
ATTACH;FMTTYPE=image/jpeg:https://www2.davarkg.com/wp-content/uploads/2025/11/img-thanksgiving.jpg
END:VEVENT
BEGIN:VEVENT
DTSTART;TZID=America/Los_Angeles:20251221T090000
DTEND;TZID=America/Los_Angeles:20251221T140000
DTSTAMP:20260425T044914
CREATED:20251216T211312Z
LAST-MODIFIED:20251216T211418Z
UID:5865-1766307600-1766325600@www2.davarkg.com
SUMMARY:Church Relocation Notice
DESCRIPTION:Starting December 21st\, we will hold services at Skandia Hall. \nJapanese Service: 9am – 10:30am\nEnglish Service:  11am – 12:30pm \nAddress : Skandia Hall\n2031 E. Villa St.\, Pasadena\, CA 91107
URL:https://www2.davarkg.com/calendar/church-relocation-notice/
LOCATION:Skandia Hall\, 2031 E. Villa St.\, Pasadena\, CA\, 91107\, United States
CATEGORIES:Services
ATTACH;FMTTYPE=image/png:https://www2.davarkg.com/wp-content/uploads/2025/12/Screen-Shot-2025-12-12-at-10.21.35-PM.png
END:VEVENT
BEGIN:VEVENT
DTSTART;TZID=America/Los_Angeles:20251224T180000
DTEND;TZID=America/Los_Angeles:20251224T200000
DTSTAMP:20260425T044914
CREATED:20251216T210651Z
LAST-MODIFIED:20251216T210651Z
UID:5860-1766599200-1766606400@www2.davarkg.com
SUMMARY:Christmas Eve Service
DESCRIPTION:Join us for worship and a celebration of our Lord on Wednesday\, December 24th at 6:00 pm. \nAddress : Skandia Hall\n2031 E. Villa St.\, Pasadena\, CA 91107
URL:https://www2.davarkg.com/calendar/2025-christmas-eve-service/
CATEGORIES:Services
ATTACH;FMTTYPE=image/jpeg:https://www2.davarkg.com/wp-content/uploads/2025/12/IMG-Christmas.jpeg
END:VEVENT
BEGIN:VEVENT
DTSTART;TZID=America/Los_Angeles:20251229T160000
DTEND;TZID=America/Los_Angeles:20260102T130000
DTSTAMP:20260425T044914
CREATED:20251203T212604Z
LAST-MODIFIED:20251203T212604Z
UID:5787-1767024000-1767358800@www2.davarkg.com
SUMMARY:The 21st Davar Winter Bible Seminar  12/29/2025 – 1/2/2026
DESCRIPTION:Davar Church holds bible seminar camps every year in August and December. Many people participate not only from California\, but also from all over the U.S.\, Japan\, and Asia. Away from the hustle and bustle of the city\, five days of concentrated Bible study provides a good opportunity to reflect on oneself and change one’s way of life. \n2025 Summer Bible Seminar\n12/29 (Mon) – 1/2 (Fri) at Pine Springs Ranch\nNow Accepting Applications!\n（Apply by 12/7） \nSpeaker : Rev. Toru Asai\nTheme: “Crossing the Jordan” \nI am with you and will watch over you wherever you go\, and I will bring you back to this land. I will not leave you until I have done what I have promised you (Gen 28:15).  \nThese are the words God spoke to Jacob in a dream the night he left his father’s house to travel to Haran\, where Laban lived. This land had been promised to his descendants since the time of Abraham\, his grandfather\, when God swore by Himself to give it to him and his descendants. Several centuries passed before Jacob’s descendants\, the Israelites\, took possession of the land\, and many crises challenged that oath. Even after Jacob returned from Haran\, a famine forced his entire family to flee to Egypt\, where they became slaves. However\, God’s oath always comes true. When the people who left Egypt made a golden calf and worshiped it in the wilderness\, Moses spoke to the Lord. \nRemember your servants Abraham\, Isaac and Israel\, to whom you swore by your own self: “I will make your descendants as numerous as the stars in the sky and I will give your descendants all this land I promised them\, and it will be their inheritance forever (Exod 32:13).”  \nWe can apply this oath of God to ourselves in Christ\, who are spiritual descendants of Abraham. What promises and blessings has God given us through the redemption of Christ? Just as the inheritance He vowed to give to Abraham’s descendants\, these blessings have already been granted to us and will never be taken away. About a thousand years after Abraham’s time\, when the nation of Judah was destroyed and its remnants were taken captive to the distant land of Babylon\, God said: \nFor I know the plans I have for you\,” declares the LORD\, “plans of peace and not of harm\, plans to give you hope and a future (Jer 29:11\, trans. mine).  \nSo\, what kind of “peace (shalom)” is sworn for us who have already received eternal rest in Christ? Aren’t we being deceived by Satan and living as if we were still in the wilderness\, not yet crossing the Jordan River? Come\, let us cross the Jordan River together and enter the Promised Land flowing with milk and honey. \nFor more information: \n2025 Winter Bible Seminar
URL:https://www2.davarkg.com/calendar/davar-winter-bible-seminar-2025-26/
LOCATION:Pine Springs Ranch\, 58000 Apple Canyon Rd\, Mountain Center\, 92561\, United States
CATEGORIES:Bible Seminar
ATTACH;FMTTYPE=image/png:https://www2.davarkg.com/wp-content/uploads/2025/11/IMG-2025WBS-Eng.png
END:VEVENT
BEGIN:VEVENT
DTSTART;TZID=America/Los_Angeles:20260402T190000
DTEND;TZID=America/Los_Angeles:20260402T210000
DTSTAMP:20260425T044914
CREATED:20260319T020427Z
LAST-MODIFIED:20260319T020452Z
UID:6028-1775156400-1775163600@www2.davarkg.com
SUMMARY:Good Friday Service Thursday\, April 2 at 7:00pm
DESCRIPTION:Good Friday Service\nThursday\, April 2 at 7:00pm
URL:https://www2.davarkg.com/calendar/2026-good-friday-service/
LOCATION:Davar Church\, CA
CATEGORIES:Services
ATTACH;FMTTYPE=image/png:https://www2.davarkg.com/wp-content/uploads/2026/03/2026-Easter-Sunday-Service3.png
END:VEVENT
BEGIN:VEVENT
DTSTART;TZID=America/Los_Angeles:20260405T100000
DTEND;TZID=America/Los_Angeles:20260405T120000
DTSTAMP:20260425T044914
CREATED:20260319T010225Z
LAST-MODIFIED:20260320T164913Z
UID:6023-1775383200-1775390400@www2.davarkg.com
SUMMARY:Join Us for the Easter Joint Service Sunday\, April 5 • 10:00 AM
DESCRIPTION:Easter Joint Service\nSunday\, April 5 from 10:00 am to 12:00 pm \n(There will be an English interpreter during the joint worship as the sermon will be conducted in Japanese) \nApproximately 2\,000 years ago\, Jesus Christ died on the cross as a trespass offering for our sins\, was buried\, and rose again three days later. \nThrough this resurrection\, anyone who believed in the words of Jesus Christ was granted reconciliation with the God of creation and all blessings. Let us sincerely thank the Lord for this wonderful work that He has done\, and enjoy and rejoice on this day together. \nLet’s celebrate the resurrection of Jesus Christ.
URL:https://www2.davarkg.com/calendar/2026-easter-sunday-service/
LOCATION:Davar Church\, CA
CATEGORIES:Services
ATTACH;FMTTYPE=image/png:https://www2.davarkg.com/wp-content/uploads/2026/03/2026-Easter-Sunday-Service4-1.png
END:VEVENT
BEGIN:VEVENT
DTSTART;TZID=America/Los_Angeles:20260426T100000
DTEND;TZID=America/Los_Angeles:20260426T120000
DTSTAMP:20260425T044914
CREATED:20260413T031659Z
LAST-MODIFIED:20260415T234512Z
UID:6090-1777197600-1777204800@www2.davarkg.com
SUMMARY:Church Anniversary Joint Worship – 10 AM
DESCRIPTION:On 4/26\, we have a joint service 10 AM\, celebrating our church’s anniversary.
URL:https://www2.davarkg.com/calendar/church-anniversary-joint-worship/
LOCATION:Davar Church\, CA
CATEGORIES:Services
ATTACH;FMTTYPE=image/png:https://www2.davarkg.com/wp-content/uploads/2026/04/Davar-Church-30th-Anniversary-thumb.png
END:VEVENT
BEGIN:VEVENT
DTSTART;TZID=America/Los_Angeles:20260808T140000
DTEND;TZID=America/Los_Angeles:20260808T160000
DTSTAMP:20260425T044914
CREATED:20260413T034950Z
LAST-MODIFIED:20260415T235909Z
UID:6093-1786197600-1786204800@www2.davarkg.com
SUMMARY:Jun Asai Piano Concert — August 8\, 2026
DESCRIPTION:Jun Asai Piano Concert 2026\nAugust 8 (Saturday) \, 2:00PM \nColburn School (LA downtown)\nZipper Hall\n200 S Grand Ave\, Los Angeles\, CA 90012 \nFurther information will be provided later.
URL:https://www2.davarkg.com/calendar/jun-asai-piano-concert-2026/
LOCATION:Colburn School\, 200 S Grand Ave\, Los Angeles\, CA\, 90012\, United States
CATEGORIES:Events
ATTACH;FMTTYPE=image/jpeg:https://www2.davarkg.com/wp-content/uploads/2026/04/img_JunAsai.jpg
END:VEVENT
BEGIN:VEVENT
DTSTART;TZID=America/Los_Angeles:20260809T090000
DTEND;TZID=America/Los_Angeles:20260813T150000
DTSTAMP:20260425T044914
CREATED:20260413T035444Z
LAST-MODIFIED:20260413T035444Z
UID:6095-1786266000-1786633200@www2.davarkg.com
SUMMARY:Summer Bible Seminar 2026
DESCRIPTION:Summer Bible Seminar from 8/9-13\, of which we will retreat to Pine Springs Ranch on 8/10-13. \nFurther information will be provided later.
URL:https://www2.davarkg.com/calendar/2026-davar-summer-bible-seminar/
LOCATION:Pine Springs Ranch\, 58000 Apple Canyon Rd\, Mountain Center\, 92561\, United States
CATEGORIES:Bible Seminar
ATTACH;FMTTYPE=image/jpeg:https://www2.davarkg.com/wp-content/uploads/2026/01/PXL_20260102_173218256.jpg
END:VEVENT
END:VCALENDAR