BEGIN:VCALENDAR
VERSION:2.0
PRODID:-//Davar Church Kingdom of God - ECPv6.15.20//NONSGML v1.0//EN
CALSCALE:GREGORIAN
METHOD:PUBLISH
X-ORIGINAL-URL:https://www2.davarkg.com
X-WR-CALDESC:Events for Davar Church Kingdom of God
REFRESH-INTERVAL;VALUE=DURATION:PT1H
X-Robots-Tag:noindex
X-PUBLISHED-TTL:PT1H
BEGIN:VTIMEZONE
TZID:America/Los_Angeles
BEGIN:DAYLIGHT
TZOFFSETFROM:-0800
TZOFFSETTO:-0700
TZNAME:PDT
DTSTART:20230312T100000
END:DAYLIGHT
BEGIN:STANDARD
TZOFFSETFROM:-0700
TZOFFSETTO:-0800
TZNAME:PST
DTSTART:20231105T090000
END:STANDARD
BEGIN:DAYLIGHT
TZOFFSETFROM:-0800
TZOFFSETTO:-0700
TZNAME:PDT
DTSTART:20240310T100000
END:DAYLIGHT
BEGIN:STANDARD
TZOFFSETFROM:-0700
TZOFFSETTO:-0800
TZNAME:PST
DTSTART:20241103T090000
END:STANDARD
BEGIN:DAYLIGHT
TZOFFSETFROM:-0800
TZOFFSETTO:-0700
TZNAME:PDT
DTSTART:20250309T100000
END:DAYLIGHT
BEGIN:STANDARD
TZOFFSETFROM:-0700
TZOFFSETTO:-0800
TZNAME:PST
DTSTART:20251102T090000
END:STANDARD
END:VTIMEZONE
BEGIN:VEVENT
DTSTART;TZID=America/Los_Angeles:20241224T180000
DTEND;TZID=America/Los_Angeles:20241224T200000
DTSTAMP:20260425T045148
CREATED:20241218T201314Z
LAST-MODIFIED:20241218T201314Z
UID:4088-1735063200-1735070400@www2.davarkg.com
SUMMARY:Christmas Eve Service
DESCRIPTION:Join us for worship and a celebration of our Lord on Tuesday\, December 24th at 6:00 pm.
URL:https://www2.davarkg.com/calendar/2024-christmas-eve-service/
CATEGORIES:Services
ATTACH;FMTTYPE=image/jpeg:https://www2.davarkg.com/wp-content/uploads/2024/12/Annai-E.jpg
END:VEVENT
END:VCALENDAR