BEGIN:VCALENDAR
VERSION:2.0
PRODID:-//Davar Church Kingdom of God - ECPv6.15.20//NONSGML v1.0//EN
CALSCALE:GREGORIAN
METHOD:PUBLISH
X-ORIGINAL-URL:https://www2.davarkg.com
X-WR-CALDESC:Events for Davar Church Kingdom of God
REFRESH-INTERVAL;VALUE=DURATION:PT1H
X-Robots-Tag:noindex
X-PUBLISHED-TTL:PT1H
BEGIN:VTIMEZONE
TZID:America/Los_Angeles
BEGIN:DAYLIGHT
TZOFFSETFROM:-0800
TZOFFSETTO:-0700
TZNAME:PDT
DTSTART:20230312T100000
END:DAYLIGHT
BEGIN:STANDARD
TZOFFSETFROM:-0700
TZOFFSETTO:-0800
TZNAME:PST
DTSTART:20231105T090000
END:STANDARD
BEGIN:DAYLIGHT
TZOFFSETFROM:-0800
TZOFFSETTO:-0700
TZNAME:PDT
DTSTART:20240310T100000
END:DAYLIGHT
BEGIN:STANDARD
TZOFFSETFROM:-0700
TZOFFSETTO:-0800
TZNAME:PST
DTSTART:20241103T090000
END:STANDARD
BEGIN:DAYLIGHT
TZOFFSETFROM:-0800
TZOFFSETTO:-0700
TZNAME:PDT
DTSTART:20250309T100000
END:DAYLIGHT
BEGIN:STANDARD
TZOFFSETFROM:-0700
TZOFFSETTO:-0800
TZNAME:PST
DTSTART:20251102T090000
END:STANDARD
END:VTIMEZONE
BEGIN:VEVENT
DTSTART;TZID=America/Los_Angeles:20240330T100000
DTEND;TZID=America/Los_Angeles:20240330T120000
DTSTAMP:20260425T164830
CREATED:20240318T175525Z
LAST-MODIFIED:20240318T175525Z
UID:2369-1711792800-1711800000@www2.davarkg.com
SUMMARY:Easter Joint Service
DESCRIPTION:Good Friday Service\nThursday\, March 28 from 6:00 pm to 8:00 pm \nEaster Joint Service\nSaturday\, March 30 from 10:00 am to 12:00 pm \n(There will be an English interpreter during the joint worship as the sermon will be conducted in Japanese) \nApproximately 2\,000 years ago\, Jesus Christ died on the cross as a trespass offering for our sins\, was buried\, and rose again three days later. \nThrough this resurrection\, anyone who believed in the words of Jesus Christ was granted reconciliation with the God of creation and all blessings. Let us sincerely thank the Lord for this wonderful work that He has done\, and enjoy and rejoice on this day together. \nLet’s celebrate the resurrection of Jesus Christ.
URL:https://www2.davarkg.com/calendar/easter-joint-service/
CATEGORIES:Services
ATTACH;FMTTYPE=image/jpeg:https://www2.davarkg.com/wp-content/uploads/2024/03/2024_Easter_E.jpg
END:VEVENT
END:VCALENDAR